
BEGIN:VCALENDAR
VERSION:2.0
PRODID:-//eventon.com NONSGML v1.0//EN
CALSCALE:GREGORIAN
METHOD:PUBLISH
BEGIN:VEVENT
UID:69e7e98f23e51
DTSTAMP:20260421T211807Z
DTSTART:20230427
DTEND:20230428
LOCATION:Miami\,  Florida Miami\,  FL 33126\,   United States
SUMMARY:Mele Cruise 2023
DESCRIPTION:Join us for or an&nbsp; unforgettable all-inclusive getaway! Me
 lé Cruise departs from Miami\,  FL on Thursday April 27\,  2023 and return
 s to Miami\,  FL on Monday May 1\,  2023 aboard the Norwegian Joy. Fete wit
 hout worry – food\,  drinks\,  entertainment – check! Bottomless drinks
  from the minute you board –[..]\nhttps://socanews.com/events/mele-cruise
 -2023/
URL:https://socanews.com/events/mele-cruise-2023/
END:VEVENT
END:VCALENDAR