
BEGIN:VCALENDAR
VERSION:2.0
PRODID:-//eventon.com NONSGML v1.0//EN
CALSCALE:GREGORIAN
METHOD:PUBLISH
BEGIN:VEVENT
UID:69e73ceb5cc0e
DTSTAMP:20260421T090131Z
DTSTART:20221105T180000Z
DTEND:20221105T235000Z
LOCATION:Masefield Suite Christchurch Avenue\,  Harrow\,  HA3 5BN
SUMMARY:Chutney Kingdom
DESCRIPTION:\nhttps://socanews.com/events/chutney-kingdom-2/
URL:https://socanews.com/events/chutney-kingdom-2/
END:VEVENT
END:VCALENDAR