
BEGIN:VCALENDAR
VERSION:2.0
PRODID:-//eventon.com NONSGML v1.0//EN
CALSCALE:GREGORIAN
METHOD:PUBLISH
BEGIN:VEVENT
UID:69e73b8fc3f2f
DTSTAMP:20260421T085543Z
DTSTART:20230219T100000Z
DTEND:20230219T170000Z
LOCATION:Hyatt Water Front Trinidad & Tobago
SUMMARY:Shades
DESCRIPTION:BREAKFAST &#8211; SOCA &#8211; SUNRISE As the sun rises over th
 e Hyatt Regency\,  we prepare you for The Ultimate Breakfast Experience 23.
 \nhttps://socanews.com/events/shades/
URL:https://socanews.com/events/shades/
END:VEVENT
END:VCALENDAR