
BEGIN:VCALENDAR
VERSION:2.0
PRODID:-//eventon.com NONSGML v1.0//EN
CALSCALE:GREGORIAN
METHOD:PUBLISH
BEGIN:VEVENT
UID:69e82dfa1e142
DTSTAMP:20260422T021002Z
DTSTART:20230203T210000Z
DTEND:20230204T030000Z
LOCATION:POS\,  Trinidad
SUMMARY:Soca For Her
DESCRIPTION:Ladies Get Your Crews Ready. After A Two Year Absence\,  North 
 America &amp; The Caribbean&#8217;s&nbsp;Largest Ladies Event Is Returning 
 For The Mother Of All Carnival Shows.\nhttps://socanews.com/events/soca-for
 -her/
URL:https://socanews.com/events/soca-for-her/
END:VEVENT
END:VCALENDAR