
BEGIN:VCALENDAR
VERSION:2.0
PRODID:-//eventon.com NONSGML v1.0//EN
CALSCALE:GREGORIAN
METHOD:PUBLISH
BEGIN:VEVENT
UID:69e99b43515f6
DTSTAMP:20260423T040835Z
DTSTART:20221223T210000Z
DTEND:20221224T030000Z
LOCATION:Atlantic Bar 61 High Street\,  Thornton Heath  London\,  CR7 8RY\,  United Kingdom
SUMMARY:Parang Soca Party
DESCRIPTION:Neighbour Neighbour it’s Christmas morning!We doing like home
  &#8211; Another Epic Caribbean Christmas to remember! Trini Parang &#8211;
  Greenz Melè Parang\nhttps://socanews.com/events/parang-soca-party/
URL:https://socanews.com/events/parang-soca-party/
END:VEVENT
END:VCALENDAR