
BEGIN:VCALENDAR
VERSION:2.0
PRODID:-//eventon.com NONSGML v1.0//EN
CALSCALE:GREGORIAN
METHOD:PUBLISH
BEGIN:VEVENT
UID:69ea4247c717a
DTSTAMP:20260423T160111Z
DTSTART:20230219T080000Z
DTEND:20230219T140000Z
LOCATION:Port of Spain Trinidad & Tobago
SUMMARY:Soaka Street Festival
DESCRIPTION:\nhttps://socanews.com/events/soaka-street-festival-2/
URL:https://socanews.com/events/soaka-street-festival-2/
END:VEVENT
END:VCALENDAR