
BEGIN:VCALENDAR
VERSION:2.0
PRODID:-//eventon.com NONSGML v1.0//EN
CALSCALE:GREGORIAN
METHOD:PUBLISH
BEGIN:VEVENT
UID:69e8fc23c705d
DTSTAMP:20260422T164939Z
DTSTART:20230217T010000Z
DTEND:20230217T070000Z
LOCATION:Queen's Park Oval Tragarete Road\,  Port of Spain\,  Trinidad & Tobago
SUMMARY:Vibes With Voicey - The Mecca “The Future is Now”
DESCRIPTION:Come out and witness a full-length concert performance by Voice
  featuring some very special guests.&nbsp; Party with the entire Vibes With
  Voicey team in what is sure to be the most memorable event for Trinidad Ca
 rnival 2023!\nhttps://socanews.com/events/vibes-with-voicey-the-mecca-the-f
 uture-is-now/
URL:https://socanews.com/events/vibes-with-voicey-the-mecca-the-future-is-now/
END:VEVENT
END:VCALENDAR