
BEGIN:VCALENDAR
VERSION:2.0
PRODID:-//eventon.com NONSGML v1.0//EN
CALSCALE:GREGORIAN
METHOD:PUBLISH
BEGIN:VEVENT
UID:69e6a57da1970
DTSTAMP:20260420T221525Z
DTSTART:20230129T180000Z
DTEND:20230129T230000Z
LOCATION:XOYO LONDON 32-37 Cowper Street\,  Shoreditch\,  London\,  EC2A 4AP
SUMMARY:Hype Mas UK - Purity - Band Launch
DESCRIPTION:\nhttps://socanews.com/events/hype-mas-uk-purity-band-launch/
URL:https://socanews.com/events/hype-mas-uk-purity-band-launch/
END:VEVENT
END:VCALENDAR