
BEGIN:VCALENDAR
VERSION:2.0
PRODID:-//eventon.com NONSGML v1.0//EN
CALSCALE:GREGORIAN
METHOD:PUBLISH
BEGIN:VEVENT
UID:69e8235c673ee
DTSTAMP:20260422T012444Z
DTSTART:20230216
DTEND:20230217
LOCATION:
SUMMARY:Miss Dominica Pageant
DESCRIPTION:\nhttps://socanews.com/events/miss-dominica-pageant/
URL:https://socanews.com/events/miss-dominica-pageant/
END:VEVENT
END:VCALENDAR