
BEGIN:VCALENDAR
VERSION:2.0
PRODID:-//eventon.com NONSGML v1.0//EN
CALSCALE:GREGORIAN
METHOD:PUBLISH
BEGIN:VEVENT
UID:69e6a3daa872f
DTSTAMP:20260420T220826Z
DTSTART:20230128T140000Z
DTEND:20230128T180000Z
LOCATION:Yaa Centre 1 Chippenham Mews\,  W9 2AN
SUMMARY:Caribbean Sessions - Notting Hill Carnival 2023 Band Launch - Ming Dynasty
DESCRIPTION:\nhttps://socanews.com/events/caribbean-sessions-notting-hill-c
 arnival-2023-band-launch-ming-dynasty/
URL:https://socanews.com/events/caribbean-sessions-notting-hill-carnival-2023-band-launch-ming-dynasty/
END:VEVENT
END:VCALENDAR