
BEGIN:VCALENDAR
VERSION:2.0
PRODID:-//eventon.com NONSGML v1.0//EN
CALSCALE:GREGORIAN
METHOD:PUBLISH
BEGIN:VEVENT
UID:69e6a472a4e8c
DTSTAMP:20260420T221058Z
DTSTART:20230305T150000Z
DTEND:20230305T230000Z
LOCATION:26 LEAKE ST. 26 Leake Street\,  London\,  SE1 7NN
SUMMARY:Riddim Tribe Band Launch
DESCRIPTION:Band of the Year for 2022 &#8211; D Riddim Tribe present their 
 costume theme for Notting Hill Carnival 2023 WONDERS All day Launch Party\n
 https://socanews.com/events/riddim-tribe-band-launch/
URL:https://socanews.com/events/riddim-tribe-band-launch/
END:VEVENT
END:VCALENDAR