
BEGIN:VCALENDAR
VERSION:2.0
PRODID:-//eventon.com NONSGML v1.0//EN
CALSCALE:GREGORIAN
METHOD:PUBLISH
BEGIN:VEVENT
UID:69e7479ebbb55
DTSTAMP:20260421T094710Z
DTSTART:20230325T210000Z
DTEND:20230326T020000Z
LOCATION:EartH Hall 11-17 Stoke Newington Road\,  Dalston\,  London\,  N16 8BH
SUMMARY:Karnival Mania Band Lauch
DESCRIPTION:Karnival Mania is an All Inclusive\,  Spectacular\,  Highly Fav
 oured Mas Band (float) that participates in the Notting Hill Carnival parad
 e on both Sunday and Monday. This Band Launch is to showcase our theme and 
 costumes that our masqueraders will perform in on the road. If you&#8217;ve
  never been to Notting[..]\nhttps://socanews.com/events/karnival-mania-band
 -lauch/
URL:https://socanews.com/events/karnival-mania-band-lauch/
END:VEVENT
END:VCALENDAR