
BEGIN:VCALENDAR
VERSION:2.0
PRODID:-//eventon.com NONSGML v1.0//EN
CALSCALE:GREGORIAN
METHOD:PUBLISH
BEGIN:VEVENT
UID:69e749e84d7d1
DTSTAMP:20260421T095656Z
DTSTART:20230326T150000Z
DTEND:20230326T190000Z
LOCATION:Yaa Centre 1 Chippenham Mews\,  W9 2AN
SUMMARY:Just INCarnival 2023 Band Launch
DESCRIPTION:\nhttps://socanews.com/events/just-incarnival-2023-band-launch/
URL:https://socanews.com/events/just-incarnival-2023-band-launch/
END:VEVENT
END:VCALENDAR