
BEGIN:VCALENDAR
VERSION:2.0
PRODID:-//eventon.com NONSGML v1.0//EN
CALSCALE:GREGORIAN
METHOD:PUBLISH
BEGIN:VEVENT
UID:69ea50ba6c490
DTSTAMP:20260423T170250Z
DTSTART:20230715T040000Z
DTEND:20230715T100000Z
LOCATION:Beausejour Promenade Saint Lucia
SUMMARY:Bacchanal Blocko
DESCRIPTION:Feel the power of d’ powder\,  paint and water raining down l
 ike blessings\,  baptizing you in the spirit of bacchanal and of pure joy!\
 nhttps://socanews.com/events/bacchanal-blocko-2/
URL:https://socanews.com/events/bacchanal-blocko-2/
END:VEVENT
END:VCALENDAR