
BEGIN:VCALENDAR
VERSION:2.0
PRODID:-//eventon.com NONSGML v1.0//EN
CALSCALE:GREGORIAN
METHOD:PUBLISH
BEGIN:VEVENT
UID:69ea48a5e5a90
DTSTAMP:20260423T162821Z
DTSTART:20230507T150000Z
DTEND:20230507T230000Z
LOCATION:Savvy On the Bay\,  Barbados
SUMMARY:Xhosa Barbados Band Launch
DESCRIPTION:Theme: EvolveWe don&#8217;t pose we party!Cooler Fete + Launch 
 Party\nhttps://socanews.com/events/xhosa-barbados-band-launch/
URL:https://socanews.com/events/xhosa-barbados-band-launch/
END:VEVENT
END:VCALENDAR