
BEGIN:VCALENDAR
VERSION:2.0
PRODID:-//eventon.com NONSGML v1.0//EN
CALSCALE:GREGORIAN
METHOD:PUBLISH
BEGIN:VEVENT
UID:69ea85d21741f
DTSTAMP:20260423T204922Z
DTSTART:20230602T170000Z
DTEND:20230602T225000Z
LOCATION:The Tabernacle 34-35 Powis Square\,  London\,  W11 2AY
SUMMARY:Metronomes Steel Orchestra's 50th Year Anniversary - Concert
DESCRIPTION:Our esteemed host\,  Martin Jay\,  will guide us through this m
 usical odyssey as we experience the evolution of our orchestra over the las
 t five decades. From back-in-time pieces to contemporary compositions\,  th
 is concert promises to be a spectacular showcase of our orchestra&#8217;s t
 alent and versatility. In addition to the incredible[..]\nhttps://socanews.
 com/events/metronomes-steel-orchestras-50th-year-anniversary-concert/
URL:https://socanews.com/events/metronomes-steel-orchestras-50th-year-anniversary-concert/
END:VEVENT
END:VCALENDAR