
BEGIN:VCALENDAR
VERSION:2.0
PRODID:-//eventon.com NONSGML v1.0//EN
CALSCALE:GREGORIAN
METHOD:PUBLISH
BEGIN:VEVENT
UID:69e89b763f25d
DTSTAMP:20260422T095710Z
DTSTART:20230730T110000Z
DTEND:20230730T190000Z
LOCATION:Croydon Sports Arena Albert Road\,  London\,  SE25 4QL
SUMMARY:Guyana Family Sports & Fun Day
DESCRIPTION:\nhttps://socanews.com/events/guyana-family-sports-fun-day-2/
URL:https://socanews.com/events/guyana-family-sports-fun-day-2/
END:VEVENT
END:VCALENDAR