
BEGIN:VCALENDAR
VERSION:2.0
PRODID:-//eventon.com NONSGML v1.0//EN
CALSCALE:GREGORIAN
METHOD:PUBLISH
BEGIN:VEVENT
UID:69e884eb47f90
DTSTAMP:20260422T082059Z
DTSTART:20230824T190000Z
DTEND:20230825T010000Z
LOCATION:HERE at Outernet Charing Cross Road\,  London\,  WC2H 8LH\,  United Kingdom
SUMMARY:Vibes with Voicey
DESCRIPTION:\nhttps://socanews.com/events/vibes-with-voicey-2/
URL:https://socanews.com/events/vibes-with-voicey-2/
END:VEVENT
END:VCALENDAR