
BEGIN:VCALENDAR
VERSION:2.0
PRODID:-//eventon.com NONSGML v1.0//EN
CALSCALE:GREGORIAN
METHOD:PUBLISH
BEGIN:VEVENT
UID:69e87e44090ce
DTSTAMP:20260422T075236Z
DTSTART:20230826T130000Z
DTEND:20230826T200000Z
LOCATION:26 LEAKE ST. 26 Leake Street\,  London\,  SE1 7NN
SUMMARY:Oui Fete
DESCRIPTION:Join Us as we get ready for three days of Fete\,  J’ouvert an
 d Mas.. Welcome to The Reunion Experience. It’s the day before we take to
  the streets of Notting Hill Carnival and celebrate freedom\,  joy\,  unity
  and happiness. This is Oui Fete\,  your Soca Fete\,  with a touch of[..]\n
 https://socanews.com/events/oui-fete-2/
URL:https://socanews.com/events/oui-fete-2/
END:VEVENT
END:VCALENDAR