
BEGIN:VCALENDAR
VERSION:2.0
PRODID:-//eventon.com NONSGML v1.0//EN
CALSCALE:GREGORIAN
METHOD:PUBLISH
BEGIN:VEVENT
UID:69e70bb4c2070
DTSTAMP:20260421T053132Z
DTSTART:20230817T180000Z
DTEND:20230817T225000Z
LOCATION:Opera Holland Park Theatre Ilchester Place\,  London W8 6LU
SUMMARY:Carnival Culture In The Park -Steelband Summer
DESCRIPTION:This will see performances from Notting Hill Carnival and Panor
 ama stalwarts  Endurance and Pan Nation alongside North Tyneside Steelband
  who perform at Holland Park for the first time in their illustrious histor
 y and the new and exciting group The Lucumi Project &#8211; a fusion of Afr
 ican and Caribbean rhythms influenced[..]\nhttps://socanews.com/events/carn
 ival-culture-in-the-park-steelband-summer/
URL:https://socanews.com/events/carnival-culture-in-the-park-steelband-summer/
END:VEVENT
END:VCALENDAR