
BEGIN:VCALENDAR
VERSION:2.0
PRODID:-//eventon.com NONSGML v1.0//EN
CALSCALE:GREGORIAN
METHOD:PUBLISH
BEGIN:VEVENT
UID:69e6805e45a15
DTSTAMP:20260420T193702Z
DTSTART:20230804T110000Z
DTEND:20230804T170000Z
LOCATION:World's End Place off King's Road  London\,  SW10 0DR
SUMMARY:Carnival Comes to Chelsea
DESCRIPTION:As part of the Kensington and Chelsea Festival\,  come and cele
 brate Carnival Arts outside The Chelsea Theatre in World&#8217;s End. All t
 he cultureAll the musicAll the costumesAll the steelpanAll the history and 
 family fun This is a Festival Partner event. Free activity. Does not need t
 o be pre-booked. Just turn[..]\nhttps://socanews.com/events/carnival-comes-
 to-chelsea-3/
URL:https://socanews.com/events/carnival-comes-to-chelsea-3/
END:VEVENT
END:VCALENDAR