
BEGIN:VCALENDAR
VERSION:2.0
PRODID:-//eventon.com NONSGML v1.0//EN
CALSCALE:GREGORIAN
METHOD:PUBLISH
BEGIN:VEVENT
UID:69e6846007729
DTSTAMP:20260420T195408Z
DTSTART:20230824T110000Z
DTEND:20230824T170000Z
LOCATION:Portobello Canopy
SUMMARY:North Kensington Carnival Party
DESCRIPTION:As part of the Kensington and Chelsea Festival\,  come and cele
 brate Carnival Arts at The Venture Centre&#8217;s North Kensington Carnival
  Party. All the cultureAll the musicAll the costumesAll the steelpanAll the
  history and family fun This is a Festival Partner event. Free activity. Do
 es not need to be pre-booked. Just[..]\nhttps://socanews.com/events/north-k
 ensington-carnival-party/
URL:https://socanews.com/events/north-kensington-carnival-party/
END:VEVENT
END:VCALENDAR