
BEGIN:VCALENDAR
VERSION:2.0
PRODID:-//eventon.com NONSGML v1.0//EN
CALSCALE:GREGORIAN
METHOD:PUBLISH
BEGIN:VEVENT
UID:69e70fe0a200c
DTSTAMP:20260421T054920Z
DTSTART:20230818T180000Z
DTEND:20230818T225000Z
LOCATION:Opera Holland Park Theatre Ilchester Place\,  London W8 6LU
SUMMARY:Carnival Culture In The Park - Pan Jazz
DESCRIPTION:An evening of Caribbean Jazz from some of the world’s leading
  performers including Debra ‘Pan Diva’ Eden\,  Daniel Louis\,  Kyron Ak
 al\,  Carlene Sweet Wrists’ Etienne\,  Samuel Dubois\,  Delphina ‘Panes
 s’ James\,  Duvone Stewart and Annise ‘Halfers’ Hadeed. All performer
 s will be backed by The Tabernacle Crew.\nhttps://socanews.com/events/carni
 val-culture-in-the-park-pan-jazz-2/
URL:https://socanews.com/events/carnival-culture-in-the-park-pan-jazz-2/
END:VEVENT
END:VCALENDAR