
BEGIN:VCALENDAR
VERSION:2.0
PRODID:-//eventon.com NONSGML v1.0//EN
CALSCALE:GREGORIAN
METHOD:PUBLISH
BEGIN:VEVENT
UID:69e7928680149
DTSTAMP:20260421T150646Z
DTSTART:20240705T170000Z
DTEND:20240705T225000Z
LOCATION:National Cultural Centre Barnard Hill\,  Castries\,  Saint Lucia
SUMMARY:Saint Lucia Carnival 2024 - Intercommercial House Calypso Competition
DESCRIPTION:Join us for the biggest staff party of the Carnival Season as c
 ommercial houses from all over Saint Lucia vie for the title of 2024 Inter-
 Commercial Champion!\nhttps://socanews.com/events/saint-lucia-carnival-2024
 -intercommercial-house-calypso-competition/
URL:https://socanews.com/events/saint-lucia-carnival-2024-intercommercial-house-calypso-competition/
END:VEVENT
END:VCALENDAR