
BEGIN:VCALENDAR
VERSION:2.0
PRODID:-//eventon.com NONSGML v1.0//EN
CALSCALE:GREGORIAN
METHOD:PUBLISH
BEGIN:VEVENT
UID:69e792868480c
DTSTAMP:20260421T150646Z
DTSTART:20240706T190000Z
DTEND:20240706T225000Z
LOCATION:The Sab Vigie Playing Field\,  John Compton Hwy\,  Saint Lucia
SUMMARY:Saint Lucia Carnival 2024 - National Groovy & Power Soca Monarch
DESCRIPTION:\nhttps://socanews.com/events/saint-lucia-carnival-2024-nationa
 l-groovy-power-soca-monarch/
URL:https://socanews.com/events/saint-lucia-carnival-2024-national-groovy-power-soca-monarch/
END:VEVENT
END:VCALENDAR