
BEGIN:VCALENDAR
VERSION:2.0
PRODID:-//eventon.com NONSGML v1.0//EN
CALSCALE:GREGORIAN
METHOD:PUBLISH
BEGIN:VEVENT
UID:69e8b1565a6fb
DTSTAMP:20260422T113030Z
DTSTART:20231210T140000Z
DTEND:20231210T180000Z
LOCATION:Manor Park Community Centre 524 High Street North\,  Manor Park\,  E12 6QN
SUMMARY:A Caribbean Christmas Market
DESCRIPTION:\nhttps://socanews.com/events/a-caribbean-christmas-market/
URL:https://socanews.com/events/a-caribbean-christmas-market/
END:VEVENT
END:VCALENDAR