
BEGIN:VCALENDAR
VERSION:2.0
PRODID:-//eventon.com NONSGML v1.0//EN
CALSCALE:GREGORIAN
METHOD:PUBLISH
BEGIN:VEVENT
UID:69e4f6ead50e2
DTSTAMP:20260419T153818Z
DTSTART:20231210T170000Z
DTEND:20231211T000000Z
LOCATION:Canal Bar 11 Middle Yard\,  Camden Lock\,  NW1 8AB
SUMMARY:We Parang: De Soca Parang Party
DESCRIPTION:Come join us for an unforgettable evening of music\,  dance\,  
 and pure Caribbean vibes at the&nbsp;We Parang &#8211; Cocoyea&#8217;s Soca
  Parang Party! Get ready to Party to the infectious rhythms of Soca and Soc
 a Parang. Gather your friends\,  put on your dancing shoes\,  and prepare t
 o immerse yourself in the[..]\nhttps://socanews.com/events/we-parang-de-soc
 a-parang-party/
URL:https://socanews.com/events/we-parang-de-soca-parang-party/
END:VEVENT
END:VCALENDAR