
BEGIN:VCALENDAR
VERSION:2.0
PRODID:-//eventon.com NONSGML v1.0//EN
CALSCALE:GREGORIAN
METHOD:PUBLISH
BEGIN:VEVENT
UID:69e999e29b512
DTSTAMP:20260423T040242Z
DTSTART:20231208
DTEND:20231209
LOCATION:Limin Southbank Gabriel's Wharf\,  56 Upper Ground\,  London\,  SE1 9PP
SUMMARY:Our Caribbean Christmas
DESCRIPTION:Join Chef Sham as we celebrate a Caribbean Christmas with his i
 nnovative menu. It&#8217;s about we belly!*Scotch bonnet glazed ham and fre
 shly baked bread*Black eye peas\,  pelau balls with a pineapple salsa*Chick
 en wings in a scotch bonnet sorrel jam*Mini pastelle &#8211; dried pigeon p
 eas &amp; salsa verde*Sweet potato and plantain[..]\nhttps://socanews.com/e
 vents/our-caribbean-christmas/
URL:https://socanews.com/events/our-caribbean-christmas/
END:VEVENT
END:VCALENDAR