
BEGIN:VCALENDAR
VERSION:2.0
PRODID:-//eventon.com NONSGML v1.0//EN
CALSCALE:GREGORIAN
METHOD:PUBLISH
BEGIN:VEVENT
UID:69e6f1f07fa3d
DTSTAMP:20260421T034136Z
DTSTART:20240310T160000Z
DTEND:20240310T210000Z
LOCATION:The Tabernacle 34-35 Powis Square\,  London\,  W11 2AY
SUMMARY:Me Nah Leggo Carnival Band Launch
DESCRIPTION:Welcome to the&nbsp;Me Nah Leggo Carnival Band Launch! Get read
 y to experience the ultimate carnival extravaganza on&nbsp;Sunday\,  March 
 10\,  2024&nbsp;at&nbsp;16:00 GMT. Join us for an unforgettable in-person e
 vent filled with vibrant costumes\,  pulsating music\,  and non-stop dancin
 g. Immerse yourself in the infectious energy as we showcase our stunning ca
 rnival band\, [..]\nhttps://socanews.com/events/me-nah-leggo-carnival-band-
 launch/
URL:https://socanews.com/events/me-nah-leggo-carnival-band-launch/
END:VEVENT
END:VCALENDAR