
BEGIN:VCALENDAR
VERSION:2.0
PRODID:-//eventon.com NONSGML v1.0//EN
CALSCALE:GREGORIAN
METHOD:PUBLISH
BEGIN:VEVENT
UID:69e73bd840531
DTSTAMP:20260421T085656Z
DTSTART:20231217T180000Z
DTEND:20231218T010000Z
LOCATION:Windrush Bar 184 Stoke Newington High Street\,  N16 7JD
SUMMARY:Roti Stop 15th Anniversay x Xmas Launch Party
DESCRIPTION:Roti Stop&#8217;s world-famous Trinbago cuisine is celebrating 
 its 15th Year Anniversary at 36B Stamford Hill\,  N16 6XZ. Together with it
 s anniversary and Christmas celebration\,  Roti Stop is announcing the esta
 blishing of an additional outlet at the Windrush Bar &amp; Kitchen in 2024.
  Yes! Roti Stop is coming to the Windrush[..]\nhttps://socanews.com/events/
 roti-stop-15th-anniversay-x-xmas-launch-party/
URL:https://socanews.com/events/roti-stop-15th-anniversay-x-xmas-launch-party/
END:VEVENT
END:VCALENDAR