
BEGIN:VCALENDAR
VERSION:2.0
PRODID:-//eventon.com NONSGML v1.0//EN
CALSCALE:GREGORIAN
METHOD:PUBLISH
BEGIN:VEVENT
UID:69e7304dc2355
DTSTAMP:20260421T080741Z
DTSTART:20240128T140000Z
DTEND:20240128T180000Z
LOCATION:The Ocean Pelican Trinidad & Tobago
SUMMARY:Sound Of Soca III
DESCRIPTION:Sound The Horn\nhttps://socanews.com/events/sound-of-soca-iii-2
 /
URL:https://socanews.com/events/sound-of-soca-iii-2/
END:VEVENT
END:VCALENDAR