
BEGIN:VCALENDAR
VERSION:2.0
PRODID:-//eventon.com NONSGML v1.0//EN
CALSCALE:GREGORIAN
METHOD:PUBLISH
BEGIN:VEVENT
UID:69e6f1f08fa85
DTSTAMP:20260421T034136Z
DTSTART:20240303T160000Z
DTEND:20240303T230000Z
LOCATION:Colour Factory 8 Queen's Yard\,  London \, E9 5EN United Kingdom
SUMMARY:D Riddim Tribe 2024 Carnival Launch Party - GALLERIA
DESCRIPTION:\nhttps://socanews.com/events/d-riddim-tribe-2024-carnival-laun
 ch-party-galleria/
URL:https://socanews.com/events/d-riddim-tribe-2024-carnival-launch-party-galleria/
END:VEVENT
END:VCALENDAR