
BEGIN:VCALENDAR
VERSION:2.0
PRODID:-//eventon.com NONSGML v1.0//EN
CALSCALE:GREGORIAN
METHOD:PUBLISH
BEGIN:VEVENT
UID:69e73ccb59ce3
DTSTAMP:20260421T090059Z
DTSTART:20240601T180000Z
DTEND:20240601T225000Z
LOCATION:The Tabernacle 34-35 Powis Square\,  London\,  W11 2AY
SUMMARY:Kaiso Lime
DESCRIPTION:\nhttps://socanews.com/events/kaiso-lime-17/
URL:https://socanews.com/events/kaiso-lime-17/
END:VEVENT
END:VCALENDAR