
BEGIN:VCALENDAR
VERSION:2.0
PRODID:-//eventon.com NONSGML v1.0//EN
CALSCALE:GREGORIAN
METHOD:PUBLISH
BEGIN:VEVENT
UID:69ea4247c7de5
DTSTAMP:20260423T160111Z
DTSTART:20240824T210000Z
DTEND:20240825T030000Z
LOCATION:Steel Yard Allhallows Lane\,  London\,  EC4R 3UE
SUMMARY:Tribe Ignite - Tiki London
DESCRIPTION:The world-famous TRIBE IGNITE lands for London Notting Hill Car
 nival 2024. Featuring TRIBE Road DJs and Soca celebrities!\nhttps://socanew
 s.com/events/tribe-ignite-tiki-london/
URL:https://socanews.com/events/tribe-ignite-tiki-london/
END:VEVENT
END:VCALENDAR