
BEGIN:VCALENDAR
VERSION:2.0
PRODID:-//eventon.com NONSGML v1.0//EN
CALSCALE:GREGORIAN
METHOD:PUBLISH
BEGIN:VEVENT
UID:69e75641285e5
DTSTAMP:20260421T104937Z
DTSTART:20240706T180000Z
DTEND:20240706T220000Z
LOCATION:The Tabernacle 34-35 Powis Square\,  London\,  W11 2AY
SUMMARY:Kaiso Lime
DESCRIPTION:Featuring live performances from Tobago CrusoeAnne FridalMr Int
 ernationalPan Fever\nhttps://socanews.com/events/kaiso-lime-18/
URL:https://socanews.com/events/kaiso-lime-18/
END:VEVENT
END:VCALENDAR