
BEGIN:VCALENDAR
VERSION:2.0
PRODID:-//eventon.com NONSGML v1.0//EN
CALSCALE:GREGORIAN
METHOD:PUBLISH
BEGIN:VEVENT
UID:69e6650e86a75
DTSTAMP:20260420T174030Z
DTSTART:20240815T183000Z
DTEND:20240815T225000Z
LOCATION:Opera Holland Park Theatre Ilchester Place\,  London W8 6LU
SUMMARY:Carnival Culture In The Park – Samba Spectacular
DESCRIPTION:Experience the electrifying rhythms and soulful melodies of Bra
 zilian bands\,  featuring samba and samba reggae. Enjoy the fusion of tradi
 tional instruments with contemporary flair for an exhilarating show that pr
 omises to ignite the stage. Performances from\,  Batala\,  Baque De Axe\,  
 Dende Nation\,  Imperio Da Rainha\,  London School of Samba and[..]\nhttps:
 //socanews.com/events/carnival-culture-in-the-park-samba-spectacular/
URL:https://socanews.com/events/carnival-culture-in-the-park-samba-spectacular/
END:VEVENT
END:VCALENDAR