
BEGIN:VCALENDAR
VERSION:2.0
PRODID:-//eventon.com NONSGML v1.0//EN
CALSCALE:GREGORIAN
METHOD:PUBLISH
BEGIN:VEVENT
UID:69e680e372d2b
DTSTAMP:20260420T193915Z
DTSTART:20240816T183000Z
DTEND:20240816T225000Z
LOCATION:Opera Holland Park Theatre Ilchester Place\,  London W8 6LU
SUMMARY:Carnival Culture In The Park – Pan Jazz
DESCRIPTION:Enjoy an enchanting night of Pan Jazz\,  where the melodic soun
 ds of the steelpan meet the improvisational flair of jazz. This unique even
 ing blends the rhythmic heartbeat of Caribbean music with soulful jazz expr
 essions\,  offering a captivating journey through innovative arrangements a
 nd electrifying performances. For the fourth consecutive year\,  and[..]\nh
 ttps://socanews.com/events/carnival-culture-in-the-park-pan-jazz-3/
URL:https://socanews.com/events/carnival-culture-in-the-park-pan-jazz-3/
END:VEVENT
END:VCALENDAR