
BEGIN:VCALENDAR
VERSION:2.0
PRODID:-//eventon.com NONSGML v1.0//EN
CALSCALE:GREGORIAN
METHOD:PUBLISH
BEGIN:VEVENT
UID:69e6846065916
DTSTAMP:20260420T195408Z
DTSTART:20240817T183000Z
DTEND:20240817T225000Z
LOCATION:Opera Holland Park Theatre Ilchester Place\,  London W8 6LU
SUMMARY:Carnival Culture In The Park - Calypso in the Park
DESCRIPTION:Immerse yourself in the vibrant rhythms of Calypso\,  celebrati
 ng the rich musical heritage of this beloved genre. Enjoy performances by s
 ome of the finest Calypsonians\,  delivering infectious beats and storytell
 ing lyrics. Join us for a joyous celebration under the stars\,  reveling in
  the spirit and energy of Calypso music. For[..]\nhttps://socanews.com/even
 ts/carnival-culture-in-the-park-calypso-in-the-park/
URL:https://socanews.com/events/carnival-culture-in-the-park-calypso-in-the-park/
END:VEVENT
END:VCALENDAR