
BEGIN:VCALENDAR
VERSION:2.0
PRODID:-//eventon.com NONSGML v1.0//EN
CALSCALE:GREGORIAN
METHOD:PUBLISH
BEGIN:VEVENT
UID:69e99940b3f07
DTSTAMP:20260423T040000Z
DTSTART:20241221T210000Z
DTEND:20241222T040000Z
LOCATION:Orleans Wine Bar 259 Seven Sisters Road\,  London\,  N4 2DD
SUMMARY:Parang & Soca Fete Christmas Party
DESCRIPTION:Join us for a night of vibrant music\,  delicious food\,  and u
 nforgettable moments! Feel the warm festivities of the season with live par
 ang music.\nhttps://socanews.com/events/parang-soca-fete-christmas-party-2/
URL:https://socanews.com/events/parang-soca-fete-christmas-party-2/
END:VEVENT
END:VCALENDAR