
BEGIN:VCALENDAR
VERSION:2.0
PRODID:-//eventon.com NONSGML v1.0//EN
CALSCALE:GREGORIAN
METHOD:PUBLISH
BEGIN:VEVENT
UID:69e7e98f26032
DTSTAMP:20260421T211807Z
DTSTART:20250302T190000Z
DTEND:20250302T235900Z
LOCATION:Carnival City Queen's Park Savannah\,  Trinidad
SUMMARY:Trinidad & Tobago Carnival 2025 - Dimanche Gras - Senior Kings & Queens Finals & National Calypso Monarch Finals
DESCRIPTION:\nhttps://socanews.com/events/trinidad-tobago-carnival-2025-dim
 anche-gras-senior-kings-queens-finals-national-calypso-monarch-finals/
URL:https://socanews.com/events/trinidad-tobago-carnival-2025-dimanche-gras-senior-kings-queens-finals-national-calypso-monarch-finals/
END:VEVENT
END:VCALENDAR