
BEGIN:VCALENDAR
VERSION:2.0
PRODID:-//eventon.com NONSGML v1.0//EN
CALSCALE:GREGORIAN
METHOD:PUBLISH
BEGIN:VEVENT
UID:69e69f6cb4ba5
DTSTAMP:20260420T214932Z
DTSTART:20250720T140000Z
DTEND:20250720T225900Z
LOCATION:Cavendish Banqueting Suite Edgware Road\,  London\,  NW9 5AE
SUMMARY:Magical Soiree
DESCRIPTION:Step into a world of elegance and enchantment at Magical Soire
 e\,  the ultimate brunch experience where luxury meets vibrant entertainmen
 t.\nhttps://socanews.com/events/magical-soiree/
URL:https://socanews.com/events/magical-soiree/
END:VEVENT
END:VCALENDAR