
BEGIN:VCALENDAR
VERSION:2.0
PRODID:-//eventon.com NONSGML v1.0//EN
CALSCALE:GREGORIAN
METHOD:PUBLISH
BEGIN:VEVENT
UID:69e73ccb5a663
DTSTAMP:20260421T090059Z
DTSTART:20250716
DTEND:20250717
LOCATION:TBC
SUMMARY:C.O.D - Hawaiian Edition
DESCRIPTION:\nhttps://socanews.com/events/c-o-d-hawaiian-edition/
URL:https://socanews.com/events/c-o-d-hawaiian-edition/
END:VEVENT
END:VCALENDAR