
BEGIN:VCALENDAR
VERSION:2.0
PRODID:-//eventon.com NONSGML v1.0//EN
CALSCALE:GREGORIAN
METHOD:PUBLISH
BEGIN:VEVENT
UID:69eba8dca58ba
DTSTAMP:20260424T173108Z
DTSTART:20250816T140000Z
DTEND:20250816T213000Z
LOCATION:Forest Road Recreation Ground Elmbridge Road\,  Redbridge\,  Ilford\,  IG6 3SN\, 
SUMMARY:Rebel V
DESCRIPTION:Are you ready to join us for Rebel V? In its 5th Anniversary\, 
  Rebel Jouvert becomes the first-ever Drinks Inclusive UK Jouvert! Enlist i
 n the Rebellion and celebrate like never before!\nhttps://socanews.com/even
 ts/rebel-v/
URL:https://socanews.com/events/rebel-v/
END:VEVENT
END:VCALENDAR