
BEGIN:VCALENDAR
VERSION:2.0
PRODID:-//eventon.com NONSGML v1.0//EN
CALSCALE:GREGORIAN
METHOD:PUBLISH
BEGIN:VEVENT
UID:69ed85c983577
DTSTAMP:20260426T032601Z
DTSTART:20250820T170000Z
DTEND:20250820T220000Z
LOCATION:The Clapham Grand 21-25 St John's Hill\,  London\,  SW11 1TT
SUMMARY:Soca Republic - Carnival Concert Edition
DESCRIPTION:Relive the moments of Soca Republic &amp; join us to enjoy a Ca
 rnival Edition Concert. We&#8217;re bringing Artists from across the Caribb
 ean Islands to perform with a full live band plus DJs to keep you entertain
 ed. Get ready to sing along and dance to some of the most talented artists[
 ..]\nhttps://socanews.com/events/soca-republic-carnival-concert-edition/
URL:https://socanews.com/events/soca-republic-carnival-concert-edition/
END:VEVENT
END:VCALENDAR