
BEGIN:VCALENDAR
VERSION:2.0
PRODID:-//eventon.com NONSGML v1.0//EN
CALSCALE:GREGORIAN
METHOD:PUBLISH
BEGIN:VEVENT
UID:69ecf74317d1c
DTSTAMP:20260425T171755Z
DTSTART:20250801T110000Z
DTEND:20250801T170000Z
LOCATION:Chelsea Theatre 7 World's End Place\,  London\,  SW10 0DR
SUMMARY:Carnival Comes to Chelsea
DESCRIPTION:Carnival Comes to Chelsea is back and we’re celebrating 5 inc
 redible years of showcasing carnival arts across RBKC! Join us at Chelsea T
 heatre &amp; World’s End Piazza for a day of steelpan\,  costumes\,  musi
 c\,  and cultural pride. Expect live performances\,  family fun\,  and a ce
 lebration of the rich history and[..]\nhttps://socanews.com/events/carnival
 -comes-to-chelsea-5/
URL:https://socanews.com/events/carnival-comes-to-chelsea-5/
END:VEVENT
END:VCALENDAR