
BEGIN:VCALENDAR
VERSION:2.0
PRODID:-//eventon.com NONSGML v1.0//EN
CALSCALE:GREGORIAN
METHOD:PUBLISH
BEGIN:VEVENT
UID:69ecf6dd382ea
DTSTAMP:20260425T171613Z
DTSTART:20250820T190000Z
DTEND:20250820T210000Z
LOCATION:Meadow Mason & Fifth\,  11a Woodfield Road\,  London\,  W9 2BA
SUMMARY:Midnight In Rio
DESCRIPTION:Come join us for a night of exclusive preview of Carnival extra
 vaganza. Get ready to dance the night away to Brazilian beats\,  and immers
 e yourself in the vibrant culture of Rio de Janeiro. Don&#8217;t miss out o
 n this unforgettable experience!\nhttps://socanews.com/events/midnight-in-r
 io/
URL:https://socanews.com/events/midnight-in-rio/
END:VEVENT
END:VCALENDAR