
BEGIN:VCALENDAR
VERSION:2.0
PRODID:-//eventon.com NONSGML v1.0//EN
CALSCALE:GREGORIAN
METHOD:PUBLISH
BEGIN:VEVENT
UID:69ec352c82188
DTSTAMP:20260425T032948Z
DTSTART:20250830T110000Z
DTEND:20250830T225900Z
LOCATION:Trinidad &amp; Tobago Association UK 380 Green Lanes\,  Finsbury Park\,  London N4 1DW
SUMMARY:Happy Independence Day - Trinidad & Tobago
DESCRIPTION:Daytime Vibes:Mc: Coco PSteelpan By: Dex Marchan After Party:Mc
 : Marcus\nhttps://socanews.com/events/happy-independence-day-trinidad-tobag
 o/
URL:https://socanews.com/events/happy-independence-day-trinidad-tobago/
END:VEVENT
END:VCALENDAR