
BEGIN:VCALENDAR
VERSION:2.0
PRODID:-//eventon.com NONSGML v1.0//EN
CALSCALE:GREGORIAN
METHOD:PUBLISH
BEGIN:VEVENT
UID:69e7e493d736d
DTSTAMP:20260421T205651Z
DTSTART:20251022T180000Z
DTEND:20251022T225900Z
LOCATION:Market Square Carpark Tobago
SUMMARY: Tobago Carnival 2025 - Soca Titans Competition
DESCRIPTION:The Tobago Festivals Commission invites you to experience the r
 hythm\,  the energy\,  and the talent of our island at the Tobago Soca Tit
 ans Competition 2025. This signature Carnival event aims to discover and ce
 lebrate Tobago’s rising soca stars while providing them with a platform f
 or professional growth and national exposure.\nhttps://socanews.com/events/
 tobago-carnival-2025-the-soca-titans-competition/
URL:https://socanews.com/events/tobago-carnival-2025-the-soca-titans-competition/
END:VEVENT
END:VCALENDAR