
BEGIN:VCALENDAR
VERSION:2.0
PRODID:-//eventon.com NONSGML v1.0//EN
CALSCALE:GREGORIAN
METHOD:PUBLISH
BEGIN:VEVENT
UID:69e654780ce82
DTSTAMP:20260420T162944Z
DTSTART:20251129T190000Z
DTEND:20251130T010000Z
LOCATION:Holiday Inn Hotel Commerce Road\,  Brentford\,  London\,  TW8 8GA
SUMMARY:Gala Dinner & Dance
DESCRIPTION:In Celebration of Barbados 59 Years of Independence and Four Ye
 ars as a Republic\nhttps://socanews.com/events/gala-dinner-dance/
URL:https://socanews.com/events/gala-dinner-dance/
END:VEVENT
END:VCALENDAR