
BEGIN:VCALENDAR
VERSION:2.0
PRODID:-//eventon.com NONSGML v1.0//EN
CALSCALE:GREGORIAN
METHOD:PUBLISH
BEGIN:VEVENT
UID:69e9ddc5f2ab3
DTSTAMP:20260423T085221Z
DTSTART:20251108T120000Z
DTEND:20251108T160000Z
LOCATION:Kensington Town Hall Hornton Street\,  Kensington\,  London\,  W8 7NX
SUMMARY:The Centenary Commonwealth Fair 2025
DESCRIPTION:100th Centenary Celebration The fair this year is being jointly
  hosted by Fiji and Sierra Leonne and will showcase the rich cultural diver
 sity of the Commonwealth\,  featuring a variety of stalls offering traditio
 nal crafts\,  cuisine\,  and entertainment from member countries. This year
 ’s theme\,  “Unity in Diversity: Celebrating 100 Years of[..]\nhttps://
 socanews.com/events/the-centenary-commonwealth-fair-2025/
URL:https://socanews.com/events/the-centenary-commonwealth-fair-2025/
END:VEVENT
END:VCALENDAR